Package: CAGEfightR Version: 1.26.0 Command: /home/biocbuild/R/R/bin/R CMD INSTALL CAGEfightR StartedAt: 2025-01-27 21:41:42 -0000 (Mon, 27 Jan 2025) EndedAt: 2025-01-27 21:42:44 -0000 (Mon, 27 Jan 2025) EllapsedTime: 62.1 seconds RetCode: 0 Status: OK