Package: CAGEfightR Version: 1.26.0 Command: rm -rf CAGEfightR.buildbin-libdir && mkdir CAGEfightR.buildbin-libdir && /Users/biocbuild/BBS/utils/build-universal.sh CAGEfightR_1.26.0.tar.gz /Library/Frameworks/R.framework/Resources/bin/R CAGEfightR.buildbin-libdir StartedAt: 2025-04-01 11:31:57 -0400 (Tue, 01 Apr 2025) EndedAt: 2025-04-01 11:33:48 -0400 (Tue, 01 Apr 2025) EllapsedTime: 111.0 seconds RetCode: 0 Status: OK PackageFile: CAGEfightR_1.26.0.tgz PackageFileSize: 2.623 MiB