Package: CAGEfightR Version: 1.26.0 Command: /Library/Frameworks/R.framework/Resources/bin/R CMD INSTALL CAGEfightR StartedAt: 2024-11-19 15:31:01 -0500 (Tue, 19 Nov 2024) EndedAt: 2024-11-19 15:32:10 -0500 (Tue, 19 Nov 2024) EllapsedTime: 69.6 seconds RetCode: 0 Status: OK