Package: CAFE Version: 1.42.0 Command: rm -rf CAFE.buildbin-libdir && mkdir CAFE.buildbin-libdir && /Users/biocbuild/BBS/utils/build-universal.sh CAFE_1.42.0.tar.gz /Library/Frameworks/R.framework/Resources/bin/R CAFE.buildbin-libdir StartedAt: 2025-04-01 11:31:52 -0400 (Tue, 01 Apr 2025) EndedAt: 2025-04-01 11:33:53 -0400 (Tue, 01 Apr 2025) EllapsedTime: 121.0 seconds RetCode: 0 Status: OK PackageFile: CAFE_1.42.0.tgz PackageFileSize: 4.687 MiB