Package: CAFE Version: 1.42.0 Command: /Library/Frameworks/R.framework/Resources/bin/R CMD check --install=check:CAFE.install-out.txt --library=/Library/Frameworks/R.framework/Resources/library --no-vignettes --timings CAFE_1.42.0.tar.gz StartedAt: 2025-04-01 12:59:05 -0400 (Tue, 01 Apr 2025) EndedAt: 2025-04-01 13:06:03 -0400 (Tue, 01 Apr 2025) EllapsedTime: 417.9 seconds RetCode: 0 Status: WARNINGS CheckDir: CAFE.Rcheck Warnings: 1