Package: CAEN Version: 1.14.0 Command: /home/biocbuild/bbs-3.20-bioc/R/bin/R CMD build --keep-empty-dirs --no-resave-data --md5 CAEN StartedAt: 2025-01-27 17:26:26 -0500 (Mon, 27 Jan 2025) EndedAt: 2025-01-27 17:28:32 -0500 (Mon, 27 Jan 2025) EllapsedTime: 126.2 seconds RetCode: 0 Status: OK PackageFile: CAEN_1.14.0.tar.gz PackageFileSize: 989.4 KiB