Package: CAEN Version: 1.14.0 Command: /Library/Frameworks/R.framework/Resources/bin/R CMD INSTALL CAEN StartedAt: 2025-01-27 15:30:09 -0500 (Mon, 27 Jan 2025) EndedAt: 2025-01-27 15:30:32 -0500 (Mon, 27 Jan 2025) EllapsedTime: 23.5 seconds RetCode: 0 Status: OK