Package: BumpyMatrix Version: 1.14.0 Command: /home/biocbuild/R/R/bin/R CMD INSTALL BumpyMatrix StartedAt: 2025-01-30 20:10:56 -0000 (Thu, 30 Jan 2025) EndedAt: 2025-01-30 20:11:29 -0000 (Thu, 30 Jan 2025) EllapsedTime: 32.8 seconds RetCode: 0 Status: OK