Package: BumpyMatrix Version: 1.14.0 Command: /home/biocbuild/R/R/bin/R CMD check --install=check:BumpyMatrix.install-out.txt --library=/home/biocbuild/R/R/site-library --no-vignettes --timings BumpyMatrix_1.14.0.tar.gz StartedAt: 2025-01-31 04:33:04 -0000 (Fri, 31 Jan 2025) EndedAt: 2025-01-31 04:34:49 -0000 (Fri, 31 Jan 2025) EllapsedTime: 105.1 seconds RetCode: 0 Status: OK CheckDir: BumpyMatrix.Rcheck Warnings: 0