Package: BumpyMatrix Version: 1.14.0 Command: /Library/Frameworks/R.framework/Resources/bin/R CMD INSTALL BumpyMatrix StartedAt: 2025-01-27 15:14:28 -0500 (Mon, 27 Jan 2025) EndedAt: 2025-01-27 15:15:00 -0500 (Mon, 27 Jan 2025) EllapsedTime: 31.2 seconds RetCode: 0 Status: OK