Package: BufferedMatrixMethods Version: 1.70.0 Command: /home/biocbuild/bbs-3.20-bioc/R/bin/R CMD INSTALL BufferedMatrixMethods StartedAt: 2025-01-27 15:59:12 -0500 (Mon, 27 Jan 2025) EndedAt: 2025-01-27 15:59:31 -0500 (Mon, 27 Jan 2025) EllapsedTime: 18.9 seconds RetCode: 0 Status: OK