Package: BufferedMatrixMethods Version: 1.70.0 Command: /home/biocbuild/bbs-3.20-bioc/R/bin/R CMD check --install=check:BufferedMatrixMethods.install-out.txt --library=/home/biocbuild/bbs-3.20-bioc/R/site-library --timings BufferedMatrixMethods_1.70.0.tar.gz StartedAt: 2025-01-27 21:22:09 -0500 (Mon, 27 Jan 2025) EndedAt: 2025-01-27 21:22:23 -0500 (Mon, 27 Jan 2025) EllapsedTime: 14.0 seconds RetCode: 0 Status: OK CheckDir: BufferedMatrixMethods.Rcheck Warnings: 0