Package: BufferedMatrixMethods Version: 1.70.0 Command: /home/biocbuild/bbs-3.20-bioc/R/bin/R CMD build --keep-empty-dirs --no-resave-data --md5 BufferedMatrixMethods StartedAt: 2025-01-27 17:25:48 -0500 (Mon, 27 Jan 2025) EndedAt: 2025-01-27 17:25:49 -0500 (Mon, 27 Jan 2025) EllapsedTime: 1.0 seconds RetCode: 0 Status: OK PackageFile: BufferedMatrixMethods_1.70.0.tar.gz PackageFileSize: 11.24 KiB