Package: BufferedMatrixMethods Version: 1.70.0 Command: rm -rf BufferedMatrixMethods.buildbin-libdir && mkdir BufferedMatrixMethods.buildbin-libdir && /Users/biocbuild/BBS/utils/build-universal.sh BufferedMatrixMethods_1.70.0.tar.gz /Library/Frameworks/R.framework/Resources/bin/R BufferedMatrixMethods.buildbin-libdir StartedAt: 2024-11-20 04:17:09 -0500 (Wed, 20 Nov 2024) EndedAt: 2024-11-20 04:17:18 -0500 (Wed, 20 Nov 2024) EllapsedTime: 8.2 seconds RetCode: 0 Status: OK PackageFile: BufferedMatrixMethods_1.70.0.tgz PackageFileSize: 53.1 KiB