Package: BufferedMatrix Version: 1.70.0 Command: /home/biocbuild/R/R/bin/R CMD INSTALL BufferedMatrix StartedAt: 2025-01-27 21:02:22 -0000 (Mon, 27 Jan 2025) EndedAt: 2025-01-27 21:02:34 -0000 (Mon, 27 Jan 2025) EllapsedTime: 12.0 seconds RetCode: 0 Status: OK