Package: BufferedMatrix Version: 1.70.0 Command: /home/biocbuild/bbs-3.20-bioc/R/bin/R CMD check --install=check:BufferedMatrix.install-out.txt --library=/home/biocbuild/bbs-3.20-bioc/R/site-library --timings BufferedMatrix_1.70.0.tar.gz StartedAt: 2025-03-31 20:24:39 -0400 (Mon, 31 Mar 2025) EndedAt: 2025-03-31 20:25:02 -0400 (Mon, 31 Mar 2025) EllapsedTime: 23.0 seconds RetCode: 0 Status: OK CheckDir: BufferedMatrix.Rcheck Warnings: 0