Package: BridgeDbR Version: 2.16.0 Command: F:\biocbuild\bbs-3.20-bioc\R\bin\R.exe CMD check --no-multiarch --install=check:BridgeDbR.install-out.txt --library=F:\biocbuild\bbs-3.20-bioc\R\library --no-vignettes --timings BridgeDbR_2.16.0.tar.gz StartedAt: 2025-01-27 23:36:23 -0500 (Mon, 27 Jan 2025) EndedAt: 2025-01-27 23:37:22 -0500 (Mon, 27 Jan 2025) EllapsedTime: 59.0 seconds RetCode: 0 Status: OK CheckDir: BridgeDbR.Rcheck Warnings: 0