Package: BloodGen3Module Version: 1.14.0 Command: /home/biocbuild/R/R/bin/R CMD INSTALL BloodGen3Module StartedAt: 2025-03-31 21:02:47 -0000 (Mon, 31 Mar 2025) EndedAt: 2025-03-31 21:03:27 -0000 (Mon, 31 Mar 2025) EllapsedTime: 39.6 seconds RetCode: 0 Status: OK