Package: BloodGen3Module Version: 1.14.0 Command: /home/biocbuild/R/R/bin/R CMD check --install=check:BloodGen3Module.install-out.txt --library=/home/biocbuild/R/R/site-library --no-vignettes --timings BloodGen3Module_1.14.0.tar.gz StartedAt: 2025-01-31 04:27:20 -0000 (Fri, 31 Jan 2025) EndedAt: 2025-01-31 04:33:21 -0000 (Fri, 31 Jan 2025) EllapsedTime: 361.4 seconds RetCode: 0 Status: WARNINGS CheckDir: BloodGen3Module.Rcheck Warnings: 1