Package: BloodGen3Module Version: 1.14.0 Command: F:\biocbuild\bbs-3.20-bioc\R\bin\R.exe CMD INSTALL BloodGen3Module StartedAt: 2025-01-27 16:53:37 -0500 (Mon, 27 Jan 2025) EndedAt: 2025-01-27 16:54:28 -0500 (Mon, 27 Jan 2025) EllapsedTime: 50.6 seconds RetCode: 0 Status: OK