Package: BloodGen3Module Version: 1.13.0 Command: C:\Users\biocbuild\bbs-3.20-bioc\R\bin\R.exe CMD check --no-multiarch --install=check:BloodGen3Module.install-out.txt --library=C:\Users\biocbuild\bbs-3.20-bioc\R\library --no-vignettes --timings BloodGen3Module_1.13.0.tar.gz StartedAt: 2024-07-15 22:13:46 -0400 (Mon, 15 Jul 2024) EndedAt: 2024-07-15 22:18:45 -0400 (Mon, 15 Jul 2024) EllapsedTime: 298.7 seconds RetCode: 0 Status: WARNINGS CheckDir: BloodGen3Module.Rcheck Warnings: 1