Package: BloodGen3Module Version: 1.14.0 Command: /Library/Frameworks/R.framework/Resources/bin/R CMD INSTALL BloodGen3Module StartedAt: 2025-02-03 16:39:05 -0500 (Mon, 03 Feb 2025) EndedAt: 2025-02-03 16:40:09 -0500 (Mon, 03 Feb 2025) EllapsedTime: 63.9 seconds RetCode: 0 Status: OK