Package: BloodGen3Module Version: 1.14.0 Command: /Library/Frameworks/R.framework/Resources/bin/R CMD check --install=check:BloodGen3Module.install-out.txt --library=/Library/Frameworks/R.framework/Resources/library --no-vignettes --timings BloodGen3Module_1.14.0.tar.gz StartedAt: 2025-04-01 00:04:33 -0400 (Tue, 01 Apr 2025) EndedAt: 2025-04-01 00:13:42 -0400 (Tue, 01 Apr 2025) EllapsedTime: 548.4 seconds RetCode: 0 Status: WARNINGS CheckDir: BloodGen3Module.Rcheck Warnings: 1