Package: BloodGen3Module Version: 1.14.0 Command: /Library/Frameworks/R.framework/Resources/bin/R CMD build --keep-empty-dirs --no-resave-data BloodGen3Module StartedAt: 2025-02-03 17:30:45 -0500 (Mon, 03 Feb 2025) EndedAt: 2025-02-03 17:33:13 -0500 (Mon, 03 Feb 2025) EllapsedTime: 148.5 seconds RetCode: 0 Status: OK PackageFile: BloodGen3Module_1.14.0.tar.gz PackageFileSize: 178.8 KiB