Package: Biostrings Version: 2.74.1 Command: /home/biocbuild/R/R/bin/R CMD INSTALL Biostrings StartedAt: 2025-01-27 21:09:56 -0000 (Mon, 27 Jan 2025) EndedAt: 2025-01-27 21:10:36 -0000 (Mon, 27 Jan 2025) EllapsedTime: 39.4 seconds RetCode: 0 Status: OK