Package: Biostrings Version: 2.74.1 Command: /home/biocbuild/R/R/bin/R CMD build --keep-empty-dirs --no-resave-data Biostrings StartedAt: 2025-01-27 22:47:41 -0000 (Mon, 27 Jan 2025) EndedAt: 2025-01-27 22:48:44 -0000 (Mon, 27 Jan 2025) EllapsedTime: 63.0 seconds RetCode: 0 Status: OK PackageFile: Biostrings_2.74.1.tar.gz PackageFileSize: 12.08 MiB