Package: Biostrings Version: 2.74.1 Command: F:\biocbuild\bbs-3.20-bioc\R\bin\R.exe CMD INSTALL Biostrings StartedAt: 2025-03-31 15:36:07 -0400 (Mon, 31 Mar 2025) EndedAt: 2025-03-31 15:40:28 -0400 (Mon, 31 Mar 2025) EllapsedTime: 260.8 seconds RetCode: 0 Status: OK