Package: Biostrings Version: 2.74.1 Command: /Library/Frameworks/R.framework/Resources/bin/R CMD INSTALL Biostrings StartedAt: 2025-01-27 15:16:49 -0500 (Mon, 27 Jan 2025) EndedAt: 2025-01-27 15:17:59 -0500 (Mon, 27 Jan 2025) EllapsedTime: 70.3 seconds RetCode: 0 Status: OK