Package: Biostrings Version: 2.74.1 Command: /Library/Frameworks/R.framework/Resources/bin/R CMD check --install=check:Biostrings.install-out.txt --library=/Library/Frameworks/R.framework/Resources/library --no-vignettes --timings Biostrings_2.74.1.tar.gz StartedAt: 2025-01-28 00:38:14 -0500 (Tue, 28 Jan 2025) EndedAt: 2025-01-28 00:55:59 -0500 (Tue, 28 Jan 2025) EllapsedTime: 1065.2 seconds RetCode: 0 Status: WARNINGS CheckDir: Biostrings.Rcheck Warnings: 1