Package: Biostrings Version: 2.74.1 Command: /Library/Frameworks/R.framework/Resources/bin/R CMD build --keep-empty-dirs --no-resave-data Biostrings StartedAt: 2025-03-31 17:16:19 -0400 (Mon, 31 Mar 2025) EndedAt: 2025-03-31 17:18:40 -0400 (Mon, 31 Mar 2025) EllapsedTime: 140.5 seconds RetCode: 0 Status: OK PackageFile: Biostrings_2.74.1.tar.gz PackageFileSize: 12.23 MiB