Package: Biostrings Version: 2.74.0 Command: /Library/Frameworks/R.framework/Resources/bin/R CMD INSTALL Biostrings StartedAt: 2024-11-19 15:08:56 -0500 (Tue, 19 Nov 2024) EndedAt: 2024-11-19 15:09:35 -0500 (Tue, 19 Nov 2024) EllapsedTime: 38.6 seconds RetCode: 0 Status: OK