Package: BiocWorkflowTools Version: 1.32.0 Command: /home/biocbuild/R/R/bin/R CMD check --install=check:BiocWorkflowTools.install-out.txt --library=/home/biocbuild/R/R/site-library --no-vignettes --timings BiocWorkflowTools_1.32.0.tar.gz StartedAt: 2025-01-31 04:13:26 -0000 (Fri, 31 Jan 2025) EndedAt: 2025-01-31 04:13:57 -0000 (Fri, 31 Jan 2025) EllapsedTime: 31.1 seconds RetCode: 0 Status: OK CheckDir: BiocWorkflowTools.Rcheck Warnings: 0