Package: BiocWorkflowTools Version: 1.32.0 Command: /Library/Frameworks/R.framework/Resources/bin/R CMD check --install=check:BiocWorkflowTools.install-out.txt --library=/Library/Frameworks/R.framework/Resources/library --no-vignettes --timings BiocWorkflowTools_1.32.0.tar.gz StartedAt: 2025-04-01 12:11:41 -0400 (Tue, 01 Apr 2025) EndedAt: 2025-04-01 12:12:15 -0400 (Tue, 01 Apr 2025) EllapsedTime: 34.6 seconds RetCode: 0 Status: OK CheckDir: BiocWorkflowTools.Rcheck Warnings: 0