Package: BiocVersion Version: 3.20.0 Command: /home/biocbuild/R/R/bin/R CMD build --keep-empty-dirs --no-resave-data BiocVersion StartedAt: 2025-01-27 22:43:07 -0000 (Mon, 27 Jan 2025) EndedAt: 2025-01-27 22:43:08 -0000 (Mon, 27 Jan 2025) EllapsedTime: 1.0 seconds RetCode: 0 Status: OK PackageFile: BiocVersion_3.20.0.tar.gz PackageFileSize: 994 bytes