Package: BiocVersion Version: 3.20.0 Command: F:\biocbuild\bbs-3.20-bioc\R\bin\R.exe CMD INSTALL BiocVersion StartedAt: 2025-01-27 15:27:08 -0500 (Mon, 27 Jan 2025) EndedAt: 2025-01-27 15:27:23 -0500 (Mon, 27 Jan 2025) EllapsedTime: 15.0 seconds RetCode: 0 Status: OK