Package: BiocVersion Version: 3.20.0 Command: rm -rf BiocVersion.buildbin-libdir && mkdir BiocVersion.buildbin-libdir && F:\biocbuild\bbs-3.20-bioc\R\bin\R.exe CMD INSTALL --build --library=BiocVersion.buildbin-libdir BiocVersion_3.20.0.tar.gz StartedAt: 2025-01-28 07:44:23 -0500 (Tue, 28 Jan 2025) EndedAt: 2025-01-28 07:44:27 -0500 (Tue, 28 Jan 2025) EllapsedTime: 4.4 seconds RetCode: 0 Status: OK PackageFile: BiocVersion_3.20.0.zip PackageFileSize: 8.213 KiB