Package: BiocVersion Version: 3.20.0 Command: /Library/Frameworks/R.framework/Resources/bin/R CMD INSTALL BiocVersion StartedAt: 2025-03-31 15:04:30 -0400 (Mon, 31 Mar 2025) EndedAt: 2025-03-31 15:04:52 -0400 (Mon, 31 Mar 2025) EllapsedTime: 22.2 seconds RetCode: 0 Status: OK