Package: BiocVersion Version: 3.20.0 Command: rm -rf BiocVersion.buildbin-libdir && mkdir BiocVersion.buildbin-libdir && /Users/biocbuild/BBS/utils/build-universal.sh BiocVersion_3.20.0.tar.gz /Library/Frameworks/R.framework/Resources/bin/R BiocVersion.buildbin-libdir StartedAt: 2025-01-28 12:42:32 -0500 (Tue, 28 Jan 2025) EndedAt: 2025-01-28 12:42:36 -0500 (Tue, 28 Jan 2025) EllapsedTime: 4.2 seconds RetCode: 0 Status: OK PackageFile: BiocVersion_3.20.0.tgz PackageFileSize: 5.654 KiB