Package: BiocVersion Version: 3.20.0 Command: /Library/Frameworks/R.framework/Resources/bin/R CMD build --keep-empty-dirs --no-resave-data BiocVersion StartedAt: 2025-03-31 19:32:35 -0400 (Mon, 31 Mar 2025) EndedAt: 2025-03-31 19:32:36 -0400 (Mon, 31 Mar 2025) EllapsedTime: 1.2 seconds RetCode: 0 Status: OK PackageFile: BiocVersion_3.20.0.tar.gz PackageFileSize: 996 bytes