Package: BiocStyle Version: 2.34.0 Command: /home/biocbuild/bbs-3.20-bioc/R/bin/R CMD build --keep-empty-dirs --no-resave-data --md5 BiocStyle StartedAt: 2025-01-27 17:19:34 -0500 (Mon, 27 Jan 2025) EndedAt: 2025-01-27 17:19:45 -0500 (Mon, 27 Jan 2025) EllapsedTime: 11.0 seconds RetCode: 0 Status: OK PackageFile: BiocStyle_2.34.0.tar.gz PackageFileSize: 887.4 KiB