Package: BiocStyle Version: 2.34.0 Command: rm -rf BiocStyle.buildbin-libdir && mkdir BiocStyle.buildbin-libdir && /Users/biocbuild/BBS/utils/build-universal.sh BiocStyle_2.34.0.tar.gz /Library/Frameworks/R.framework/Resources/bin/R BiocStyle.buildbin-libdir StartedAt: 2025-01-28 12:42:26 -0500 (Tue, 28 Jan 2025) EndedAt: 2025-01-28 12:42:35 -0500 (Tue, 28 Jan 2025) EllapsedTime: 9.4 seconds RetCode: 0 Status: OK PackageFile: BiocStyle_2.34.0.tgz PackageFileSize: 832.4 KiB