Package: BiocSklearn Version: 1.28.0 Command: /home/biocbuild/bbs-3.20-bioc/R/bin/R CMD INSTALL BiocSklearn StartedAt: 2025-01-30 15:11:38 -0500 (Thu, 30 Jan 2025) EndedAt: 2025-01-30 15:11:59 -0500 (Thu, 30 Jan 2025) EllapsedTime: 20.9 seconds RetCode: 0 Status: OK