Package: BiocSklearn Version: 1.28.0 Command: /home/biocbuild/bbs-3.20-bioc/R/bin/R CMD check --install=check:BiocSklearn.install-out.txt --library=/home/biocbuild/bbs-3.20-bioc/R/site-library --timings BiocSklearn_1.28.0.tar.gz StartedAt: 2025-02-03 20:26:30 -0500 (Mon, 03 Feb 2025) EndedAt: 2025-02-03 20:28:57 -0500 (Mon, 03 Feb 2025) EllapsedTime: 147.2 seconds RetCode: 0 Status: OK CheckDir: BiocSklearn.Rcheck Warnings: 0