Package: BiocSklearn Version: 1.28.0 Command: /home/biocbuild/bbs-3.20-bioc/R/bin/R CMD build --keep-empty-dirs --no-resave-data --md5 BiocSklearn StartedAt: 2025-02-03 16:33:59 -0500 (Mon, 03 Feb 2025) EndedAt: 2025-02-03 16:34:32 -0500 (Mon, 03 Feb 2025) EllapsedTime: 33.0 seconds RetCode: 0 Status: OK PackageFile: BiocSklearn_1.28.0.tar.gz PackageFileSize: 32.52 MiB