Package: BiocSingular Version: 1.22.0 Command: /home/biocbuild/R/R/bin/R CMD check --install=check:BiocSingular.install-out.txt --library=/home/biocbuild/R/R/site-library --no-vignettes --timings BiocSingular_1.22.0.tar.gz StartedAt: 2025-02-04 04:50:34 -0000 (Tue, 04 Feb 2025) EndedAt: 2025-02-04 05:07:11 -0000 (Tue, 04 Feb 2025) EllapsedTime: 996.9 seconds RetCode: 0 Status: OK CheckDir: BiocSingular.Rcheck Warnings: 0