Package: BiocSingular Version: 1.22.0 Command: /home/biocbuild/bbs-3.20-bioc/R/bin/R CMD build --keep-empty-dirs --no-resave-data --md5 BiocSingular StartedAt: 2025-01-27 17:19:27 -0500 (Mon, 27 Jan 2025) EndedAt: 2025-01-27 17:20:04 -0500 (Mon, 27 Jan 2025) EllapsedTime: 37.1 seconds RetCode: 0 Status: OK PackageFile: BiocSingular_1.22.0.tar.gz PackageFileSize: 603.5 KiB