Package: BiocSingular Version: 1.22.0 Command: /Library/Frameworks/R.framework/Resources/bin/R CMD INSTALL BiocSingular StartedAt: 2025-03-31 16:23:59 -0400 (Mon, 31 Mar 2025) EndedAt: 2025-03-31 16:24:56 -0400 (Mon, 31 Mar 2025) EllapsedTime: 56.8 seconds RetCode: 0 Status: OK