Package: BiocSingular Version: 1.22.0 Command: /Library/Frameworks/R.framework/Resources/bin/R CMD check --install=check:BiocSingular.install-out.txt --library=/Library/Frameworks/R.framework/Resources/library --no-vignettes --timings BiocSingular_1.22.0.tar.gz StartedAt: 2025-01-28 00:31:39 -0500 (Tue, 28 Jan 2025) EndedAt: 2025-01-28 00:37:17 -0500 (Tue, 28 Jan 2025) EllapsedTime: 338.8 seconds RetCode: 0 Status: OK CheckDir: BiocSingular.Rcheck Warnings: 0