Package: BiocSingular Version: 1.22.0 Command: /Library/Frameworks/R.framework/Resources/bin/R CMD build --keep-empty-dirs --no-resave-data BiocSingular StartedAt: 2025-03-31 19:31:36 -0400 (Mon, 31 Mar 2025) EndedAt: 2025-03-31 19:32:17 -0400 (Mon, 31 Mar 2025) EllapsedTime: 41.7 seconds RetCode: 0 Status: OK PackageFile: BiocSingular_1.22.0.tar.gz PackageFileSize: 602.1 KiB