Package: BiocPkgTools Version: 1.24.0 Command: /home/biocbuild/R/R/bin/R CMD INSTALL BiocPkgTools StartedAt: 2025-01-30 20:40:39 -0000 (Thu, 30 Jan 2025) EndedAt: 2025-01-30 20:40:51 -0000 (Thu, 30 Jan 2025) EllapsedTime: 12.4 seconds RetCode: 0 Status: OK